BEGIN:VCALENDAR
VERSION:2.0
PRODID:-//Tukios.com/
BEGIN:VEVENT
UID:5d081366-ef22-41c6-a249-fd9b314edc29@www.mccomasfuneralhome.com
DTSTAMP:20260420T231031Z
DTSTART:20260425
SUMMARY:Graveside Service
DESCRIPTION:
URL:https://www.mccomasfuneralhome.com/obituaries/roger-kregar
LOCATION: 809 Rock Spring Rd  Bel Air MD 21014
GEO:39.5469655;-76.3569565
END:VEVENT
END:VCALENDAR