BEGIN:VCALENDAR
VERSION:2.0
PRODID:-//Tukios.com/
BEGIN:VEVENT
UID:f368a70b-50b6-4bf9-946e-613f049900b5@www.mccomasfuneralhome.com
DTSTAMP:20260420T231119Z
DTSTART:20260425T160000Z
DTEND:20260425T170000Z
SUMMARY:Funeral Service
DESCRIPTION:
URL:https://www.mccomasfuneralhome.com/obituaries/roger-kregar
LOCATION: 803 Edgewood Road  Edgewood MD 21040
GEO:39.429125;-76.299612
END:VEVENT
END:VCALENDAR