BEGIN:VCALENDAR
VERSION:2.0
PRODID:-//Tukios.com/
BEGIN:VEVENT
UID:c7f93b30-6513-49e7-bff9-d88e016ed872@www.mccomasfuneralhome.com
DTSTAMP:20260420T231649Z
DTSTART:20260425T140000Z
DTEND:20260425T160000Z
SUMMARY:Visitation
DESCRIPTION:
URL:https://www.mccomasfuneralhome.com/obituaries/roger-kregar
LOCATION: 803 Edgewood Road  Edgewood MD 21040
GEO:39.429125;-76.299612
END:VEVENT
END:VCALENDAR