BEGIN:VCALENDAR
VERSION:2.0
PRODID:-//Tukios.com/
BEGIN:VEVENT
UID:473b0583-6b95-42b2-812f-55a4872531bc@www.mccomasfuneralhome.com
DTSTAMP:20260424T130617Z
DTSTART:20260501T190000Z
DTEND:20260501T210000Z
SUMMARY:Visitation
DESCRIPTION:
URL:https://www.mccomasfuneralhome.com/obituaries/robert-savage
LOCATION: 50 W Broadway  Bel Air MD 21014
GEO:39.5384158;-76.3565489
END:VEVENT
END:VCALENDAR