BEGIN:VCALENDAR
VERSION:2.0
PRODID:-//Tukios.com/
BEGIN:VEVENT
UID:67d9ec71-84b9-4421-a65b-7583a723f71e@www.mccomasfuneralhome.com
DTSTAMP:20260422T205726Z
DTSTART:20260427
SUMMARY:Interment
DESCRIPTION:
URL:https://www.mccomasfuneralhome.com/obituaries/linda-underwood
LOCATION: 200 W Padonia Rd  Timonium MD 21093
GEO:39.4559805;-76.6377966
END:VEVENT
END:VCALENDAR