BEGIN:VCALENDAR
VERSION:2.0
PRODID:-//Tukios.com/
BEGIN:VEVENT
UID:2d3c5e49-e9ba-402a-bdaa-d4856e262beb@www.mccomasfuneralhome.com
DTSTAMP:20260422T205450Z
DTSTART:20260427T150000Z
DTEND:20260427T160000Z
SUMMARY:Funeral Service
DESCRIPTION:
URL:https://www.mccomasfuneralhome.com/obituaries/linda-underwood
LOCATION: 50 W Broadway  Bel Air MD 21014
GEO:39.5384158;-76.3565489
END:VEVENT
END:VCALENDAR