BEGIN:VCALENDAR
VERSION:2.0
PRODID:-//Tukios.com/
BEGIN:VEVENT
UID:db092b88-fdcd-4a97-a2e1-a1690ec79c64@www.mccomasfuneralhome.com
DTSTAMP:20260422T205741Z
DTSTART:20260426T170000Z
DTEND:20260426T200000Z
SUMMARY:Visitation
DESCRIPTION:
URL:https://www.mccomasfuneralhome.com/obituaries/linda-underwood
LOCATION: 50 W Broadway  Bel Air MD 21014
GEO:39.5384158;-76.3565489
END:VEVENT
END:VCALENDAR