BEGIN:VCALENDAR
VERSION:2.0
PRODID:-//Tukios.com/
BEGIN:VEVENT
UID:a831ca23-ec8b-43dd-a13e-d6fe786792f6@www.mccomasfuneralhome.com
DTSTAMP:20260420T173607Z
DTSTART:20260422
SUMMARY:Interment
DESCRIPTION:
URL:https://www.mccomasfuneralhome.com/obituaries/clay-hall
LOCATION:  809 Rock Spring Road  Bel Air MD 21014
GEO:39.5461885;-76.3615739
END:VEVENT
END:VCALENDAR