BEGIN:VCALENDAR
VERSION:2.0
PRODID:-//Tukios.com/
BEGIN:VEVENT
UID:bc50c98d-019a-47c1-9c95-996baf49face@www.mccomasfuneralhome.com
DTSTAMP:20260420T173537Z
DTSTART:20260422T140000Z
DTEND:20260422T150000Z
SUMMARY:Funeral Service
DESCRIPTION:
URL:https://www.mccomasfuneralhome.com/obituaries/clay-hall
LOCATION: 1317 Cokesbury Road  Abingdon MD 21009
GEO:39.4614124;-76.2789774
END:VEVENT
END:VCALENDAR