BEGIN:VCALENDAR
VERSION:2.0
PRODID:-//Tukios.com/
BEGIN:VEVENT
UID:631f6a16-b6a1-4714-85bf-9bfdb54f6ad3@www.mccomasfuneralhome.com
DTSTAMP:20260420T172939Z
DTSTART:20260422T130000Z
DTEND:20260422T140000Z
SUMMARY:Visitation
DESCRIPTION:
URL:https://www.mccomasfuneralhome.com/obituaries/clay-hall
LOCATION: 1317 Cokesbury Road  Abingdon MD 21009
GEO:39.4614124;-76.2789774
END:VEVENT
END:VCALENDAR