BEGIN:VCALENDAR
VERSION:2.0
PRODID:-//Tukios.com/
BEGIN:VEVENT
UID:a5e07323-4c9b-4d71-a4fc-78cafdb20bde@www.mccomasfuneralhome.com
DTSTAMP:20260424T215915Z
DTSTART:20260429T140000Z
DTEND:20260429T150000Z
SUMMARY:Mass
DESCRIPTION:
URL:https://www.mccomasfuneralhome.com/obituaries/christina-lagreca
LOCATION:St. Margaret Catholic Church 141 Hickory Avenue  Bel Air MD 
	21014
GEO:39.5405019;-76.348309
END:VEVENT
END:VCALENDAR